BEGIN:VCALENDAR
VERSION:2.0
PRODID:-//Department of Youth Development - ECPv6.15.20//NONSGML v1.0//EN
CALSCALE:GREGORIAN
METHOD:PUBLISH
X-WR-CALNAME:Department of Youth Development
X-ORIGINAL-URL:https://dyd.lacounty.gov
X-WR-CALDESC:Events for Department of Youth Development
REFRESH-INTERVAL;VALUE=DURATION:PT1H
X-Robots-Tag:noindex
X-PUBLISHED-TTL:PT1H
BEGIN:VTIMEZONE
TZID:America/Los_Angeles
BEGIN:DAYLIGHT
TZOFFSETFROM:-0800
TZOFFSETTO:-0700
TZNAME:PDT
DTSTART:20240310T100000
END:DAYLIGHT
BEGIN:STANDARD
TZOFFSETFROM:-0700
TZOFFSETTO:-0800
TZNAME:PST
DTSTART:20241103T090000
END:STANDARD
BEGIN:DAYLIGHT
TZOFFSETFROM:-0800
TZOFFSETTO:-0700
TZNAME:PDT
DTSTART:20250309T100000
END:DAYLIGHT
BEGIN:STANDARD
TZOFFSETFROM:-0700
TZOFFSETTO:-0800
TZNAME:PST
DTSTART:20251102T090000
END:STANDARD
BEGIN:DAYLIGHT
TZOFFSETFROM:-0800
TZOFFSETTO:-0700
TZNAME:PDT
DTSTART:20260308T100000
END:DAYLIGHT
BEGIN:STANDARD
TZOFFSETFROM:-0700
TZOFFSETTO:-0800
TZNAME:PST
DTSTART:20261101T090000
END:STANDARD
BEGIN:DAYLIGHT
TZOFFSETFROM:-0800
TZOFFSETTO:-0700
TZNAME:PDT
DTSTART:20270314T100000
END:DAYLIGHT
BEGIN:STANDARD
TZOFFSETFROM:-0700
TZOFFSETTO:-0800
TZNAME:PST
DTSTART:20271107T090000
END:STANDARD
END:VTIMEZONE
BEGIN:VEVENT
DTSTART;TZID=America/Los_Angeles:20260409T170000
DTEND;TZID=America/Los_Angeles:20260409T190000
DTSTAMP:20260420T040940
CREATED:20260327T234951Z
LAST-MODIFIED:20260327T234951Z
UID:15902-1775754000-1775761200@dyd.lacounty.gov
SUMMARY:Heart of Youth Justice Reimagined Antelope Valley Meeting
DESCRIPTION:Heart of Youth Justice Reimagined (HYJR) is a youth-led and youth-centered group dedicated to shaping Los Angeles County’s YJR initiative. One of the core values of YJR is community participation. The young people and community engaged in YJR want to make sure this process is shaped by the people who are most impacted\, and that the YJR implementation truly contributes to the wellbeing\, happiness and safety of youth in Los Angeles County.
URL:https://dyd.lacounty.gov/event/heart-of-youth-justice-reimagined-antelope-valley-meeting-8/
LOCATION:38417 20th Street East\, A\, Palmdale\, CA 93550\, 38417 20th Street East A\, Palmdale\, CA\, 93550\, United States
END:VEVENT
BEGIN:VEVENT
DTSTART;TZID=America/Los_Angeles:20260402T170000
DTEND;TZID=America/Los_Angeles:20260402T190000
DTSTAMP:20260420T040940
CREATED:20260327T235102Z
LAST-MODIFIED:20260327T235102Z
UID:15905-1775149200-1775156400@dyd.lacounty.gov
SUMMARY:Heart of Youth Justice Reimagined East LA Meeting
DESCRIPTION:Heart of Youth Justice Reimagined (HYJR) is a youth-led and youth-centered group dedicated to shaping Los Angeles County’s YJR initiative. One of the core values of YJR is community participation. The young people and community engaged in YJR want to make sure this process is shaped by the people who are most impacted\, and that the YJR implementation truly contributes to the wellbeing\, happiness and safety of youth in Los Angeles County.
URL:https://dyd.lacounty.gov/event/heart-of-youth-justice-reimagined-east-la-meeting-5/
LOCATION:Soledad Enrichment Action\, 4876 Gleason Street\, Los Angeles\, CA\, 90022\, United States
END:VEVENT
BEGIN:VEVENT
DTSTART;TZID=America/Los_Angeles:20260305T170000
DTEND;TZID=America/Los_Angeles:20260305T190000
DTSTAMP:20260420T040940
CREATED:20260226T221726Z
LAST-MODIFIED:20260226T221726Z
UID:15818-1772730000-1772737200@dyd.lacounty.gov
SUMMARY:Heart of Youth Justice Reimagined - East LA Meeting
DESCRIPTION:Heart of Youth Justice Reimagined (HYJR) is a youth-led and youth-centered group dedicated to shaping Los Angeles County’s YJR initiative. One of the core values of YJR is community participation. The young people and community engaged in YJR want to make sure this process is shaped by the people who are most impacted\, and that the YJR implementation truly contributes to the wellbeing\, happiness and safety of youth in Los Angeles County.
URL:https://dyd.lacounty.gov/event/heart-of-youth-justice-reimagined-east-la-meeting-4/
LOCATION:Soledad Enrichment Action\, 4876 Gleason Street\, Los Angeles\, CA\, 90022\, United States
END:VEVENT
BEGIN:VEVENT
DTSTART;TZID=America/Los_Angeles:20260305T150000
DTEND;TZID=America/Los_Angeles:20260305T170000
DTSTAMP:20260420T040940
CREATED:20260204T201243Z
LAST-MODIFIED:20260204T201520Z
UID:15763-1772722800-1772730000@dyd.lacounty.gov
SUMMARY:DYD Quarterly Public Convening
DESCRIPTION:Get ready to connect\, learn and contribute! The DYD Quarterly Public Convening (QPC)\, formerly known as the Steering Committee\, is your essential platform for all things DYD. Whether you’re already familiar with DYD or new to our work\, the QPC is your chance to learn more and get involved. You’ll discover what’s currently happening at DYD\, engage in shared learning around youth development topics\, and hear directly from youth themselves about programs\, key issues\, and their impact on young lives. \nReady to join us? Register for our next Quarterly Public Convening on Thursday\, March 5 at 3PM by visiting bit.ly/QPCM2026. See you there!
URL:https://dyd.lacounty.gov/event/15763/
END:VEVENT
BEGIN:VEVENT
DTSTART;TZID=America/Los_Angeles:20260226T180000
DTEND;TZID=America/Los_Angeles:20260226T200000
DTSTAMP:20260420T040940
CREATED:20260226T222011Z
LAST-MODIFIED:20260226T222011Z
UID:15820-1772128800-1772136000@dyd.lacounty.gov
SUMMARY:Heart of Youth Justice Reimagined - San Fernando Valley Meeting
DESCRIPTION:Heart of Youth Justice Reimagined (HYJR) is a youth-led and youth-centered group dedicated to shaping Los Angeles County’s YJR initiative. One of the core values of YJR is community participation. The young people and community engaged in YJR want to make sure this process is shaped by the people who are most impacted\, and that the YJR implementation truly contributes to the wellbeing\, happiness and safety of youth in Los Angeles County.
URL:https://dyd.lacounty.gov/event/heart-of-youth-justice-reimagined-san-fernando-valley-meeting-7/
LOCATION:Midnight Hour Records\, 1101 San Fernando Road\, San Fernando\, 91340\, United States
END:VEVENT
BEGIN:VEVENT
DTSTART;TZID=America/Los_Angeles:20260226T170000
DTEND;TZID=America/Los_Angeles:20260226T190000
DTSTAMP:20260420T040940
CREATED:20260226T222408Z
LAST-MODIFIED:20260226T222408Z
UID:15826-1772125200-1772132400@dyd.lacounty.gov
SUMMARY:Heart of Youth Justice Reimagined - South Central LA Meeting
DESCRIPTION:Heart of Youth Justice Reimagined (HYJR) is a youth-led and youth-centered group dedicated to shaping Los Angeles County’s YJR initiative. One of the core values of YJR is community participation. The young people and community engaged in YJR want to make sure this process is shaped by the people who are most impacted\, and that the YJR implementation truly contributes to the wellbeing\, happiness and safety of youth in Los Angeles County.
URL:https://dyd.lacounty.gov/event/heart-of-youth-justice-reimagined-south-central-la-meeting-4/
LOCATION:Chuco’s Justice Center\, 7625 S. Central Ave.\, Los Angeles\, 90001\, United States
END:VEVENT
BEGIN:VEVENT
DTSTART;TZID=America/Los_Angeles:20260225T180000
DTEND;TZID=America/Los_Angeles:20260225T200000
DTSTAMP:20260420T040940
CREATED:20260217T201110Z
LAST-MODIFIED:20260217T201145Z
UID:15785-1772042400-1772049600@dyd.lacounty.gov
SUMMARY:South Central LA Community Listening Session
DESCRIPTION:
URL:https://dyd.lacounty.gov/event/15785/
LOCATION:4876 Gleason Street\, 4876 Gleason Street\, Los Angeles\, CA\, 90022\, United States
END:VEVENT
BEGIN:VEVENT
DTSTART;TZID=America/Los_Angeles:20260225T163000
DTEND;TZID=America/Los_Angeles:20260225T183000
DTSTAMP:20260420T040940
CREATED:20260226T221601Z
LAST-MODIFIED:20260226T221601Z
UID:15816-1772037000-1772044200@dyd.lacounty.gov
SUMMARY:Heart of Youth Justice Reimagined - Long Beach Meeting
DESCRIPTION:Heart of Youth Justice Reimagined (HYJR) is a youth-led and youth-centered group dedicated to shaping Los Angeles County’s YJR initiative. One of the core values of YJR is community participation. The young people and community engaged in YJR want to make sure this process is shaped by the people who are most impacted\, and that the YJR implementation truly contributes to the wellbeing\, happiness and safety of youth in Los Angeles County.
URL:https://dyd.lacounty.gov/event/heart-of-youth-justice-reimagined-long-beach-meeting-5/
LOCATION:Long Beach City College\, 1305 E. Pacific Coast Highway\, Long Beach\, CA\, 90806\, United States
END:VEVENT
BEGIN:VEVENT
DTSTART;TZID=America/Los_Angeles:20260224T180000
DTEND;TZID=America/Los_Angeles:20260224T200000
DTSTAMP:20260420T040940
CREATED:20260217T201451Z
LAST-MODIFIED:20260217T201451Z
UID:15788-1771956000-1771963200@dyd.lacounty.gov
SUMMARY:San Fernando Valley Community Listening Session
DESCRIPTION:
URL:https://dyd.lacounty.gov/event/san-fernando-valley-community-listening-session/
LOCATION:Tia Chucha’s Centro Cultural\, 126777 Glenoaks Boulevard\, Sylmar\, CA\, 91342\, United States
END:VEVENT
BEGIN:VEVENT
DTSTART;TZID=America/Los_Angeles:20260218T100000
DTEND;TZID=America/Los_Angeles:20260218T120000
DTSTAMP:20260420T040940
CREATED:20260217T201005Z
LAST-MODIFIED:20260217T201005Z
UID:15783-1771408800-1771416000@dyd.lacounty.gov
SUMMARY:Long Beach Community Listening Session
DESCRIPTION:
URL:https://dyd.lacounty.gov/event/long-beach-community-listening-session/
LOCATION:Long Beach City College\, 1305 E. Pacific Coast Highway\, Long Beach\, CA\, 90806\, United States
END:VEVENT
BEGIN:VEVENT
DTSTART;TZID=America/Los_Angeles:20260129T180000
DTEND;TZID=America/Los_Angeles:20260129T200000
DTSTAMP:20260420T040940
CREATED:20251230T210916Z
LAST-MODIFIED:20251230T223620Z
UID:15699-1769709600-1769716800@dyd.lacounty.gov
SUMMARY:Heart of Youth Justice Reimagined meeting - San Fernando Valley
DESCRIPTION:Heart of Youth Justice Reimagined (HYJR) is a youth-centered and youth co-led group dedicated to shaping Los Angeles County’s YJR initiative. One of the core values of YJR is community participation. The young people and community engaged in YJR want to make sure this process is shaped by the people who are most impacted\, and that the YJR implementation truly contributes to the wellbeing\, happiness and safety of youth in Los Angeles County. \n 
URL:https://dyd.lacounty.gov/event/heart-of-youth-justice-reimagined-meeting-san-fernando-valley/
LOCATION:Midnight Hour Records\, 1101 San Fernando Road\, San Fernando\, 91340\, United States
END:VEVENT
BEGIN:VEVENT
DTSTART;TZID=America/Los_Angeles:20260129T170000
DTEND;TZID=America/Los_Angeles:20260129T190000
DTSTAMP:20260420T040940
CREATED:20251230T211258Z
LAST-MODIFIED:20251230T212232Z
UID:15701-1769706000-1769713200@dyd.lacounty.gov
SUMMARY:Heart of Youth Justice Reimagined meeting - East LA
DESCRIPTION:Heart of Youth Justice Reimagined (HYJR) is a youth-centered and youth co-led group dedicated to shaping Los Angeles County’s YJR initiative. One of the core values of YJR is community participation. The young people and community engaged in YJR want to make sure this process is shaped by the people who are most impacted\, and that the YJR implementation truly contributes to the wellbeing\, happiness and safety of youth in Los Angeles County.
URL:https://dyd.lacounty.gov/event/heart-of-youth-justice-reimagined-meeting-east-la/
LOCATION:Soledad Enrichment Action\, 4876 Gleason Street\, Los Angeles\, CA\, 90022\, United States
END:VEVENT
BEGIN:VEVENT
DTSTART;TZID=America/Los_Angeles:20260128T163000
DTEND;TZID=America/Los_Angeles:20260128T183000
DTSTAMP:20260420T040940
CREATED:20260123T164034Z
LAST-MODIFIED:20260123T164034Z
UID:15748-1769617800-1769625000@dyd.lacounty.gov
SUMMARY:Heart of Youth Justice Reimagined meeting - Long Beach
DESCRIPTION:Heart of Youth Justice Reimagined (HYJR) is a youth-centered and youth co-led group dedicated to shaping Los Angeles County’s YJR initiative. One of the core values of YJR is community participation. The young people and community engaged in YJR want to make sure this process is shaped by the people who are most impacted\, and that the YJR implementation truly contributes to the wellbeing\, happiness and safety of youth in Los Angeles County.
URL:https://dyd.lacounty.gov/event/heart-of-youth-justice-reimagined-meeting-long-beach/
LOCATION:Long Beach City College\, 1305 E. Pacific Coast Highway\, Long Beach\, CA\, 90806\, United States
END:VEVENT
BEGIN:VEVENT
DTSTART;TZID=America/Los_Angeles:20260122T170000
DTEND;TZID=America/Los_Angeles:20260122T190000
DTSTAMP:20260420T040940
CREATED:20251230T211422Z
LAST-MODIFIED:20251230T212153Z
UID:15705-1769101200-1769108400@dyd.lacounty.gov
SUMMARY:Heart of Youth Justice Reimagined meeting - South LA
DESCRIPTION:Heart of Youth Justice Reimagined (HYJR) is a youth-centered and youth co-led group dedicated to shaping Los Angeles County’s YJR initiative. One of the core values of YJR is community participation. The young people and community engaged in YJR want to make sure this process is shaped by the people who are most impacted\, and that the YJR implementation truly contributes to the wellbeing\, happiness and safety of youth in Los Angeles County.
URL:https://dyd.lacounty.gov/event/heart-of-youth-justice-reimagined-meeting-south-la/
LOCATION:Chuco’s Justice Center\, 7625 S. Central Ave.\, Los Angeles\, 90001\, United States
END:VEVENT
BEGIN:VEVENT
DTSTART;TZID=America/Los_Angeles:20260108T170000
DTEND;TZID=America/Los_Angeles:20260108T190000
DTSTAMP:20260420T040940
CREATED:20251230T211536Z
LAST-MODIFIED:20251230T213318Z
UID:15708-1767891600-1767898800@dyd.lacounty.gov
SUMMARY:Heart of Youth Justice Reimagined meeting - Antelope Valley
DESCRIPTION:Heart of Youth Justice Reimagined (HYJR) is a youth-centered and youth co-led group dedicated to shaping Los Angeles County’s YJR initiative. One of the core values of YJR is community participation. The young people and community engaged in YJR want to make sure this process is shaped by the people who are most impacted\, and that the YJR implementation truly contributes to the wellbeing\, happiness and safety of youth in Los Angeles County.
URL:https://dyd.lacounty.gov/event/heart-of-youth-justice-reimagined-meeting-antelope-valley/
LOCATION:38417 20th Street East\, A\, Palmdale\, CA 93550\, 38417 20th Street East A\, Palmdale\, CA\, 93550\, United States
END:VEVENT
BEGIN:VEVENT
DTSTART;TZID=America/Los_Angeles:20251217T163000
DTEND;TZID=America/Los_Angeles:20251217T183000
DTSTAMP:20260420T040940
CREATED:20251208T193822Z
LAST-MODIFIED:20251208T193822Z
UID:15672-1765989000-1765996200@dyd.lacounty.gov
SUMMARY:Heart of Youth Justice Reimagined - Long Beach Meeting
DESCRIPTION:Heart of Youth Justice Reimagined (HYJR) is a youth-led and youth-centered group dedicated to shaping Los Angeles County’s YJR initiative. One of the core values of YJR is community participation. The young people and community engaged in YJR want to make sure this process is shaped by the people who are most impacted\, and that the YJR implementation truly contributes to the wellbeing\, happiness and safety of youth in Los Angeles County.
URL:https://dyd.lacounty.gov/event/heart-of-youth-justice-reimagined-long-beach-meeting-4/
LOCATION:LB Forward\, 2217 E. 6th Street\, Long Beach\, CA\, 90814\, United States
END:VEVENT
BEGIN:VEVENT
DTSTART;TZID=America/Los_Angeles:20251211T170000
DTEND;TZID=America/Los_Angeles:20251211T190000
DTSTAMP:20260420T040940
CREATED:20251121T164733Z
LAST-MODIFIED:20251121T164807Z
UID:15654-1765472400-1765479600@dyd.lacounty.gov
SUMMARY:Heart of Youth Justice Reimagined - Antelope Valley Meeting
DESCRIPTION:Heart of Youth Justice Reimagined (HYJR) is a youth-led and youth-centered group dedicated to shaping Los Angeles County’s YJR initiative. One of the core values of YJR is community participation. The young people and community engaged in YJR want to make sure this process is shaped by the people who are most impacted\, and that the YJR implementation truly contributes to the wellbeing\, happiness and safety of youth in Los Angeles County.
URL:https://dyd.lacounty.gov/event/15654/
LOCATION:38417 20th Street East\, A\, Palmdale\, CA 93550\, 38417 20th Street East A\, Palmdale\, CA\, 93550\, United States
END:VEVENT
BEGIN:VEVENT
DTSTART;TZID=America/Los_Angeles:20251208T180000
DTEND;TZID=America/Los_Angeles:20251208T200000
DTSTAMP:20260420T040940
CREATED:20251124T171421Z
LAST-MODIFIED:20251124T171624Z
UID:15658-1765216800-1765224000@dyd.lacounty.gov
SUMMARY:Heart of Youth Justice Reimagined - San Fernando Valley meeting
DESCRIPTION:Heart of Youth Justice Reimagined (HYJR) is a youth-led and youth-centered group dedicated to shaping Los Angeles County’s YJR initiative. One of the core values of YJR is community participation. The young people and community engaged in YJR want to make sure this process is shaped by the people who are most impacted\, and that the YJR implementation truly contributes to the wellbeing\, happiness and safety of youth in Los Angeles County.
URL:https://dyd.lacounty.gov/event/heart-of-youth-justice-reimagined-san-fernando-valley-meeting-6/
LOCATION:Midnight Hour Records\, 1101 San Fernando Road\, San Fernando\, 91340\, United States
END:VEVENT
BEGIN:VEVENT
DTSTART;TZID=America/Los_Angeles:20251204T170000
DTEND;TZID=America/Los_Angeles:20251204T190000
DTSTAMP:20260420T040940
CREATED:20251118T205448Z
LAST-MODIFIED:20251118T205448Z
UID:15647-1764867600-1764874800@dyd.lacounty.gov
SUMMARY:Heart of Youth Justice Reimagined - East LA meeting
DESCRIPTION:Heart of Youth Justice Reimagined (HYJR) is a youth-led and youth-centered group dedicated to shaping Los Angeles County’s YJR initiative. One of the core values of YJR is community participation. The young people and community engaged in YJR want to make sure this process is shaped by the people who are most impacted\, and that the YJR implementation truly contributes to the wellbeing\, happiness and safety of youth in Los Angeles County.
URL:https://dyd.lacounty.gov/event/heart-of-youth-justice-reimagined-east-la-meeting-3/
LOCATION:Soledad Enrichment Action\, 4876 Gleason Street\, Los Angeles\, CA\, 90022\, United States
END:VEVENT
BEGIN:VEVENT
DTSTART;TZID=America/Los_Angeles:20251204T170000
DTEND;TZID=America/Los_Angeles:20251204T190000
DTSTAMP:20260420T040940
CREATED:20251118T205035Z
LAST-MODIFIED:20251118T205035Z
UID:15643-1764867600-1764874800@dyd.lacounty.gov
SUMMARY:Heart of Youth Justice Reimagined - South Central meeting
DESCRIPTION:Heart of Youth Justice Reimagined (HYJR) is a youth-led and youth-centered group dedicated to shaping Los Angeles County’s YJR initiative. One of the core values of YJR is community participation. The young people and community engaged in YJR want to make sure this process is shaped by the people who are most impacted\, and that the YJR implementation truly contributes to the wellbeing\, happiness and safety of youth in Los Angeles County.
URL:https://dyd.lacounty.gov/event/heart-of-youth-justice-reimagined-south-central-meeting-2/
LOCATION:Chuco’s Justice Center\, 7625 S. Central Ave.\, Los Angeles\, 90001\, United States
END:VEVENT
BEGIN:VEVENT
DTSTART;TZID=America/Los_Angeles:20251204T150000
DTEND;TZID=America/Los_Angeles:20251206T170000
DTSTAMP:20260420T040940
CREATED:20251107T022531Z
LAST-MODIFIED:20251107T050818Z
UID:15624-1764860400-1765040400@dyd.lacounty.gov
SUMMARY:DYD Quarterly Public Convening
DESCRIPTION:Register today to join us for DYD’s Virtual Quarterly Public Convening happening on Thursday\, December 4th from 3-5PM on Zoom! \nWe’re excited to close out the year together and share more about the impact of DYD’s work! \nRegister by scanning the QR Code in the flyer or by visiting bit.ly/dydqpc4.
URL:https://dyd.lacounty.gov/event/dyd-quarterly-public-convening-3/
END:VEVENT
BEGIN:VEVENT
DTSTART;TZID=America/Los_Angeles:20251120T180000
DTEND;TZID=America/Los_Angeles:20251120T200000
DTSTAMP:20260420T040940
CREATED:20251103T194551Z
LAST-MODIFIED:20251103T195225Z
UID:15612-1763661600-1763668800@dyd.lacounty.gov
SUMMARY:Heart of Youth Justice Reimagined - San Fernando Valley meeting
DESCRIPTION:Heart of Youth Justice Reimagined (HYJR) is a youth-led and youth-centered group dedicated to shaping Los Angeles County’s YJR initiative. One of the core values of YJR is community participation. The young people and community engaged in YJR want to make sure this process is shaped by the people who are most impacted\, and that the YJR implementation truly contributes to the wellbeing\, happiness and safety of youth in Los Angeles County.
URL:https://dyd.lacounty.gov/event/15612/
LOCATION:Midnight Hour Records\, 1101 San Fernando Road\, San Fernando\, 91340\, United States
END:VEVENT
BEGIN:VEVENT
DTSTART;TZID=America/Los_Angeles:20251120T170000
DTEND;TZID=America/Los_Angeles:20251120T190000
DTSTAMP:20260420T040940
CREATED:20251103T194256Z
LAST-MODIFIED:20251118T204916Z
UID:15608-1763658000-1763665200@dyd.lacounty.gov
SUMMARY:Heart of Youth Justice Reimagined - South Central LA meeting
DESCRIPTION:Heart of Youth Justice Reimagined (HYJR) is a youth-led and youth-centered group dedicated to shaping Los Angeles County’s YJR initiative. One of the core values of YJR is community participation. The young people and community engaged in YJR want to make sure this process is shaped by the people who are most impacted\, and that the YJR implementation truly contributes to the wellbeing\, happiness and safety of youth in Los Angeles County.
URL:https://dyd.lacounty.gov/event/heart-of-youth-justice-reimagined-south-central-la-meeting-3/
LOCATION:Chuco’s Justice Center\, 7625 S. Central Ave.\, Los Angeles\, 90001\, United States
END:VEVENT
BEGIN:VEVENT
DTSTART;TZID=America/Los_Angeles:20251119T163000
DTEND;TZID=America/Los_Angeles:20251119T183000
DTSTAMP:20260420T040940
CREATED:20251106T232024Z
LAST-MODIFIED:20251106T232024Z
UID:15620-1763569800-1763577000@dyd.lacounty.gov
SUMMARY:Heart of Youth Justice Reimagined - Long Beach meeting
DESCRIPTION:Heart of Youth Justice Reimagined (HYJR) is a youth-led and youth-centered group dedicated to shaping Los Angeles County’s YJR initiative. One of the core values of YJR is community participation. The young people and community engaged in YJR want to make sure this process is shaped by the people who are most impacted\, and that the YJR implementation truly contributes to the wellbeing\, happiness and safety of youth in Los Angeles County.
URL:https://dyd.lacounty.gov/event/heart-of-youth-justice-reimagined-long-beach-meeting-3/
LOCATION:LB Forward\, 2217 E. 6th Street\, Long Beach\, CA\, 90814\, United States
END:VEVENT
BEGIN:VEVENT
DTSTART;TZID=America/Los_Angeles:20251114T090000
DTEND;TZID=America/Los_Angeles:20251114T160000
DTSTAMP:20260420T040940
CREATED:20250812T195522Z
LAST-MODIFIED:20251107T213309Z
UID:13399-1763110800-1763136000@dyd.lacounty.gov
SUMMARY:Rooted In Us Annual Youth Summit 2025
DESCRIPTION:Welcome to the Rooted in Us Annual Youth Summit! DYD is hosting this free event filled with food\, music\, resources\, youth centered workshops and hands-on activities—all centered around youth leadership and empowerment. Join the waitlist for this November 14 event by clicking here!
URL:https://dyd.lacounty.gov/event/rooted-in-us-annual-youth-summit-2025/
LOCATION:The Beehive\, 1000 E 60th St\, Los Angeles\, CA\, 90001\, United States
END:VEVENT
BEGIN:VEVENT
DTSTART;TZID=America/Los_Angeles:20251113T170000
DTEND;TZID=America/Los_Angeles:20251113T190000
DTSTAMP:20260420T040940
CREATED:20251103T200833Z
LAST-MODIFIED:20251103T200833Z
UID:15614-1763053200-1763060400@dyd.lacounty.gov
SUMMARY:Heart of Youth Justice Reimagined - Antelope Valley meeting
DESCRIPTION:Heart of Youth Justice Reimagined (HYJR) is a youth-led and youth-centered group dedicated to shaping Los Angeles County’s YJR initiative. One of the core values of YJR is community participation. The young people and community engaged in YJR want to make sure this process is shaped by the people who are most impacted\, and that the YJR implementation truly contributes to the wellbeing\, happiness and safety of youth in Los Angeles County.
URL:https://dyd.lacounty.gov/event/heart-of-youth-justice-reimagined-antelope-valley-meeting-7/
LOCATION:38417 20th Street East\, A\, Palmdale\, CA 93550\, 38417 20th Street East A\, Palmdale\, CA\, 93550\, United States
END:VEVENT
BEGIN:VEVENT
DTSTART;TZID=America/Los_Angeles:20251106T170000
DTEND;TZID=America/Los_Angeles:20251106T190000
DTSTAMP:20260420T040940
CREATED:20251103T194443Z
LAST-MODIFIED:20251103T194443Z
UID:15610-1762448400-1762455600@dyd.lacounty.gov
SUMMARY:Heart of Youth Justice Reimagined - East LA meeting
DESCRIPTION:Heart of Youth Justice Reimagined (HYJR) is a youth-led and youth-centered group dedicated to shaping Los Angeles County’s YJR initiative. One of the core values of YJR is community participation. The young people and community engaged in YJR want to make sure this process is shaped by the people who are most impacted\, and that the YJR implementation truly contributes to the wellbeing\, happiness and safety of youth in Los Angeles County.
URL:https://dyd.lacounty.gov/event/heart-of-youth-justice-reimagined-east-la-meeting-2/
LOCATION:Soledad Enrichment Action\, 4876 Gleason Street\, Los Angeles\, CA\, 90022\, United States
END:VEVENT
BEGIN:VEVENT
DTSTART;TZID=America/Los_Angeles:20251030T180000
DTEND;TZID=America/Los_Angeles:20251030T200000
DTSTAMP:20260420T040940
CREATED:20250926T184757Z
LAST-MODIFIED:20250926T184954Z
UID:15499-1761847200-1761854400@dyd.lacounty.gov
SUMMARY:Heart of Youth Justice Reimagined - San Fernando Valley Meeting
DESCRIPTION:Heart of Youth Justice Reimagined (HYJR) is a youth-led and youth-centered group dedicated to shaping Los Angeles County’s YJR initiative. One of the core values of YJR is community participation. The young people and community engaged in YJR want to make sure this process is shaped by the people who are most impacted\, and that the YJR implementation truly contributes to the wellbeing\, happiness and safety of youth in Los Angeles County.
URL:https://dyd.lacounty.gov/event/15499/
LOCATION:Midnight Hour Records\, 1101 San Fernando Road\, San Fernando\, 91340\, United States
END:VEVENT
BEGIN:VEVENT
DTSTART;TZID=America/Los_Angeles:20251022T163000
DTEND;TZID=America/Los_Angeles:20251022T183000
DTSTAMP:20260420T040940
CREATED:20251002T203834Z
LAST-MODIFIED:20251002T203909Z
UID:15531-1761150600-1761157800@dyd.lacounty.gov
SUMMARY:Heart of Youth Justice Reimagined - Long Beach Meeting
DESCRIPTION:Heart of Youth Justice Reimagined (HYJR) is a youth-led and youth-centered group dedicated to shaping Los Angeles County’s YJR initiative. One of the core values of YJR is community participation. The young people and community engaged in YJR want to make sure this process is shaped by the people who are most impacted\, and that the YJR implementation truly contributes to the wellbeing\, happiness and safety of youth in Los Angeles County.
URL:https://dyd.lacounty.gov/event/15531/
LOCATION:LB Forward\, 2217 E. 6th Street\, Long Beach\, CA\, 90814\, United States
END:VEVENT
BEGIN:VEVENT
DTSTART;TZID=America/Los_Angeles:20251016T170000
DTEND;TZID=America/Los_Angeles:20251016T190000
DTSTAMP:20260420T040940
CREATED:20250926T184647Z
LAST-MODIFIED:20250926T185036Z
UID:15497-1760634000-1760641200@dyd.lacounty.gov
SUMMARY:Heart of Youth Justice Reimagined - South Central Meeting
DESCRIPTION:Heart of Youth Justice Reimagined (HYJR) is a youth-led and youth-centered group dedicated to shaping Los Angeles County’s YJR initiative. One of the core values of YJR is community participation. The young people and community engaged in YJR want to make sure this process is shaped by the people who are most impacted\, and that the YJR implementation truly contributes to the wellbeing\, happiness and safety of youth in Los Angeles County.
URL:https://dyd.lacounty.gov/event/heart-of-youth-justice-reimagined-south-central-meeting/
LOCATION:Chuco’s Justice Center\, 7625 S. Central Ave.\, Los Angeles\, 90001\, United States
END:VEVENT
END:VCALENDAR